BEGIN:VCALENDAR
VERSION:2.0
PRODID:-//Sommernachts-Kino im schwarzen Kloster in Freiburg - ECPv6.13.2//NONSGML v1.0//EN
CALSCALE:GREGORIAN
METHOD:PUBLISH
X-ORIGINAL-URL:https://sommernachts-kino.de
X-WR-CALDESC:Veranstaltungen für Sommernachts-Kino im schwarzen Kloster in Freiburg
REFRESH-INTERVAL;VALUE=DURATION:PT1H
X-Robots-Tag:noindex
X-PUBLISHED-TTL:PT1H
BEGIN:VTIMEZONE
TZID:UTC
BEGIN:STANDARD
TZOFFSETFROM:+0000
TZOFFSETTO:+0000
TZNAME:UTC
DTSTART:20230101T000000
END:STANDARD
END:VTIMEZONE
BEGIN:VEVENT
DTSTART;TZID=UTC:20230630T220000
DTEND;TZID=UTC:20230630T233000
DTSTAMP:20260424T155604
CREATED:20230608T140941Z
LAST-MODIFIED:20230615T111504Z
UID:2727-1688162400-1688167800@sommernachts-kino.de
SUMMARY:Eröffnung: TRIANGLE OF SADNESS
DESCRIPTION:  \nMit sorgsam inszenierten Instagramfotos nehmen die Models Carl und Yaya ihre Follower auf eine Reise durch ihre perfekte Mode-Welt mit. Bei einer Luxuskreuzfahrt treffen sie auf Oligarchen\, IT-Milliardäre\, Waffenhändler und einen Kapitän\, der im Rausch Marx zitiert. Zunächst verläuft der Törn absolut selfietauglich. Doch während des Captain’s Dinners zieht ein Sturm auf\, und das Paar findet sich mit einigen Milliardären und einer Reinigungskraft auf einer einsamen Insel wieder. Und nur die Putze weiß\, wie man Feuer macht und fischt\, und dreht den Spieß um… \nGoldene Palme\, Cannes 2022! 6 Guldbagge und 4 Europäische Filmpreise\, darunter Bester Film und Beste Regie! \nDarsteller: Harris Dickinson\, Charlbi Dean Kriek\, Woody Harrelson \nRegie: Ruben Östlund / Schweden 2022\, 147 min.\n \nAb 12 Jahren \n\nTrailer:
URL:https://sommernachts-kino.de/film/eroeffnung-triangle-of-sadness
LOCATION:Schwarzes Kloster\, Rotteckring 12\, Freiburg
ATTACH;FMTTYPE=image/jpeg:https://sommernachts-kino.de/wp-content/uploads/2023/06/TRIANGLE-OF-SADNESS-_01.jpg
END:VEVENT
END:VCALENDAR