BEGIN:VCALENDAR
VERSION:2.0
PRODID:-//Sommernachts-Kino im schwarzen Kloster in Freiburg - ECPv6.13.2//NONSGML v1.0//EN
CALSCALE:GREGORIAN
METHOD:PUBLISH
X-ORIGINAL-URL:https://sommernachts-kino.de
X-WR-CALDESC:Veranstaltungen für Sommernachts-Kino im schwarzen Kloster in Freiburg
REFRESH-INTERVAL;VALUE=DURATION:PT1H
X-Robots-Tag:noindex
X-PUBLISHED-TTL:PT1H
BEGIN:VTIMEZONE
TZID:UTC
BEGIN:STANDARD
TZOFFSETFROM:+0000
TZOFFSETTO:+0000
TZNAME:UTC
DTSTART:20230101T000000
END:STANDARD
END:VTIMEZONE
BEGIN:VEVENT
DTSTART;TZID=UTC:20230706T220000
DTEND;TZID=UTC:20230706T233000
DTSTAMP:20260424T141117
CREATED:20230608T150046Z
LAST-MODIFIED:20230615T110925Z
UID:2755-1688680800-1688686200@sommernachts-kino.de
SUMMARY:SONNE UND BETON
DESCRIPTION:  \nBerlin-Gropiusstadt im Sommer. In den Parks stinkt es nach Hundescheiße\, in den Ecken stehen Dealer. Wer hier lebt\, ist Gangster oder Opfer. Lukas\, Gino und Julius sind solche Opfer. Kein Geld fürs Schwimmbad\, kein Glück in der Liebe und nur Stress zu Hause. Als sie im Park Gras kaufen wollen\, verprügeln die Dealer Lukas und wollen 500 Euro Schutzgeld. Wie soll Lukas das Geld auftreiben? Sanchez hat eine Idee: Einfach in die Schule einbrechen\, die neuen Computer aus dem Lager schleppen und verkaufen. Der Plan gelingt. Fast. \nDarsteller: Levy Rico Arcos\, Vincent Wiemer\, Rafael Luis Klein-Hessling\, Aaron Maldonado Morales \nRegie: David Wnendt / Deutschland 2023\, 119 min.\n \nAb 12 Jahren \n\nTrailer:
URL:https://sommernachts-kino.de/film/sonne-und-beton
LOCATION:Schwarzes Kloster\, Rotteckring 12\, Freiburg
ATTACH;FMTTYPE=image/png:https://sommernachts-kino.de/wp-content/uploads/2023/06/Sonne1.png
END:VEVENT
BEGIN:VEVENT
DTSTART;TZID=UTC:20230711T220000
DTEND;TZID=UTC:20230711T233000
DTSTAMP:20260424T141117
CREATED:20230608T154931Z
LAST-MODIFIED:20230712T080131Z
UID:2769-1689112800-1689118200@sommernachts-kino.de
SUMMARY:WANN WIRD ES ENDLICH WIEDER SO\, WIE ES NIE WAR
DESCRIPTION:Die gestrige Vorstellung musste wegen Unwetter ausfallen! Alle online gekauften Karten\, die noch nicht vor Ort entwertet wurden\, werden automatisch zurückerstattet – Sie müssen nichts unternehmen. Bereits entwertete Online-Tickets\, sowie an der Kasse gekaufte Karten\, werden im Friedrichsbau-Kino erstattet! \nDer siebenjährige Joachim lebt mit seiner Familie in einer Villa auf dem Gelände einer Kinder- und Jugendpsychiatrie lebt. Sein Vater ist der Direktor der Klinik. Unter den Patienten fühlen sich Joachim und sein Vater am wohlsten. Die Patienten sind ihre Freunde. Auf die Gesellschaft der „anderen“\, der „Normalen“\, können sie verzichten. Anders die Mutter. Sie würde gerne mondäner leben und trauert ihren Jugendabenteuern in Italien nach. Erst nach und nach\, mit 16 und mit 25 Jahren\, erkennt Joachim\, wie zerbrechlich sein Familienidyll ist… \nDarsteller: Devid Striesow\, Laura Tonke\, Camille Loup \nRegie: Sonja Heiss / Deutschland 2022\, 116 min.\n \nAb 12 Jahren \n\nTrailer:
URL:https://sommernachts-kino.de/film/wann-wird-es-endlich-wieder-so-wie-es-nie-war
LOCATION:Schwarzes Kloster\, Rotteckring 12\, Freiburg
ATTACH;FMTTYPE=image/webp:https://sommernachts-kino.de/wp-content/uploads/2023/06/Wann1.webp
END:VEVENT
BEGIN:VEVENT
DTSTART;TZID=UTC:20230713T214500
DTEND;TZID=UTC:20230713T233000
DTSTAMP:20260424T141117
CREATED:20220710T102935Z
LAST-MODIFIED:20230615T110511Z
UID:2504-1689284700-1689291000@sommernachts-kino.de
SUMMARY:MITTAGSSTUNDE
DESCRIPTION:Ingwer Feddersen erkennt das Dorf\, in dem er aufgewachsen ist\, nicht wieder: keine Schule mehr\, kein Bäcker und kein Kaufmann. Keine Störche auf dem Dach der Kirche\, auf den Feldern keine Kühe\, nur noch Mais und Wind. Als wäre eine ganze Welt versunken. Wann hat dieser Niedergang begonnen? In den 1970ern\, als nach der Flurbereinigung erst die Hecken und dann die Vögel verschwanden? Als die großen Höfe wuchsen und die kleinen starben? Als Ingwer zum Studium nach Kiel ging und den Alten mit dem Gasthof sitzen ließ? Heute hält der Vater immer noch stur hinter seinem Tresen die Stellung. Und Ingwer\, vor Jahrzehnten weggezogen\, kehrt zurück. Er hat in diesem Dorf noch etwas gutzumachen... \nDarsteller:  Charly Hübner\, Peter Franke\, Hildegard Schmahl\nRegie: Lars Jessen / Deutschland 2022\, 120 min.\n \nAb 12 Jahren \n\nTrailer: \nhttps://www.youtube.com/
URL:https://sommernachts-kino.de/film/mittagsstunde
LOCATION:Schwarzes Kloster\, Rotteckring 12\, Freiburg
ATTACH;FMTTYPE=image/jpeg:https://sommernachts-kino.de/wp-content/uploads/2022/07/Mittagsstunde.jpg
END:VEVENT
BEGIN:VEVENT
DTSTART;TZID=UTC:20230714T214500
DTEND;TZID=UTC:20230714T233000
DTSTAMP:20260424T141117
CREATED:20220610T134856Z
LAST-MODIFIED:20230615T110438Z
UID:2337-1689371100-1689377400@sommernachts-kino.de
SUMMARY:EVERYTHING EVERYWHERE ALL AT ONCE (OmU)
DESCRIPTION:Vorstellung im Original mit Untertiteln! \nWaschsalonbesitzerin Evelyn Wang geht im Chaos ihres Alltags unter: Der bevorstehende Besuch ihres Vaters überfordert sie\, die Wünsche der Kunden bringen sie an ihre Grenzen und die Steuererklärung wächst ihr komplett über den Kopf. Doch während sie mit ihrer Familie bei der Steuerprüferin vorspricht\, wird ihr Universum komplett durcheinandergewirbelt. Raum und Zeit lösen sich auf\, und alle Menschen haben plötzlich weitere Leben in Parallelwelten… \nDarsteller:  Stephanie Hsu\, Jamie Lee Curtis\nRegie: Dan Kwan\, Daniel Scheinert / USA 2022\, 132 min.\n \nAb 16 Jahren \n\nTrailer:
URL:https://sommernachts-kino.de/film/everything
LOCATION:Schwarzes Kloster\, Rotteckring 12\, Freiburg
ATTACH;FMTTYPE=image/jpeg:https://sommernachts-kino.de/wp-content/uploads/2022/06/Everything.jpg
END:VEVENT
BEGIN:VEVENT
DTSTART;TZID=UTC:20230715T214500
DTEND;TZID=UTC:20230715T233000
DTSTAMP:20260424T141117
CREATED:20220710T094040Z
LAST-MODIFIED:20230615T110339Z
UID:2483-1689457500-1689463800@sommernachts-kino.de
SUMMARY:WUNDERSCHÖN
DESCRIPTION:  \nFrauke findet sich „kurz vor der 60“ nicht mehr begehrenswert\, während ihr pensionierter Mann ohne Arbeit nicht weiß\, wohin mit sich. Ihre Tochter Juli will als Model endlich den Durchbruch schaffen und versucht verbissen\, ihren Körper in das Schönheitsideal der Branche zu pressen. Auch Julies Schwägerin Sonja hat mit ihrem Körper zu kämpfen\, der nach zwei Schwangerschaften zum Ausdruck einer Lebenskrise wird. Ihr Mann Milan hat dabei nicht im Blick\, welchen Druck sie sich als junge Mutter auferlegt…. \nDarsteller:  Karoline Herfurth\, Nora Tschirner\nRegie: Karoline Herfurth / Deutschland 2021\, 132 min.\n \nAb 6 Jahren \n\nTrailer:
URL:https://sommernachts-kino.de/film/wunderschoen-2
LOCATION:Schwarzes Kloster\, Rotteckring 12\, Freiburg
ATTACH;FMTTYPE=image/jpeg:https://sommernachts-kino.de/wp-content/uploads/2022/06/wunderschoen.jpg
END:VEVENT
BEGIN:VEVENT
DTSTART;TZID=UTC:20230716T214500
DTEND;TZID=UTC:20230716T233000
DTSTAMP:20260424T141117
CREATED:20230608T170656Z
LAST-MODIFIED:20230615T110301Z
UID:2775-1689543900-1689550200@sommernachts-kino.de
SUMMARY:DAS BLAU DES KAFTANS
DESCRIPTION:Eine verbotene Leidenschaft und die Liebe zu Stoffen: Halim und Mina sind seit vielen Jahren verheiratet und betreiben in der Altstadt von Salé ein Geschäft für Kaftane. Seit jeher leben beide mit dem Geheimnis\, dass Halim homosexuell ist – und er hat gelernt\, seine Neigung zu verheimlichen. Als Mina an Krebs erkrankt und ein junger Lehrling in der Schneiderei anfängt\, gerät das Gleichgewicht ins Wanken. Vereint in ihrer Liebe\, helfen sich Mina und Halim gegenseitig\, ihre Ängste zu überwinden… \nBester Film\, Un Certain Regard\, Cannes 2022! \nDarsteller: Lubna Azabal\, Saleh Bakri\, Ayoub Missioui\nRegie: Maryam Touzani / Marokko 2022\, 118 min.\n \nAb 12 Jahren \n\nTrailer:
URL:https://sommernachts-kino.de/film/das-blau-des-kaftans
LOCATION:Schwarzes Kloster\, Rotteckring 12\, Freiburg
ATTACH;FMTTYPE=image/jpeg:https://sommernachts-kino.de/wp-content/uploads/2023/06/Kaftan1jpg.jpg
END:VEVENT
BEGIN:VEVENT
DTSTART;TZID=UTC:20230721T214500
DTEND;TZID=UTC:20230721T233000
DTSTAMP:20260424T141117
CREATED:20230608T173012Z
LAST-MODIFIED:20230718T113433Z
UID:2793-1689975900-1689982200@sommernachts-kino.de
SUMMARY:TRIANGLE OF SADNESS (OmU)
DESCRIPTION:Vorstellung im Original mit Untertiteln! \nMit sorgsam inszenierten Instagramfotos nehmen die Models Carl und Yaya ihre Follower auf eine Reise durch ihre perfekte Mode-Welt mit. Bei einer Luxuskreuzfahrt treffen sie auf Oligarchen\, IT-Milliardäre\, Waffenhändler und einen Kapitän\, der im Rausch Marx zitiert. Zunächst verläuft der Törn absolut selfietauglich. Doch während des Captain’s Dinners zieht ein Sturm auf\, und das Paar findet sich mit einigen Milliardären und einer Reinigungskraft auf einer einsamen Insel wieder. Und nur die Putze weiß\, wie man Feuer macht und fischt\, und dreht den Spieß um… \nGoldene Palme\, Cannes 2022! 6 Guldbagge und 4 Europäische Filmpreise\, darunter Bester Film und Beste Regie! \nDarsteller: Harris Dickinson\, Charlbi Dean Kriek\, Woody Harrelson \nRegie: Ruben Östlund / Schweden 2022\, 147 min.\n \nAb 12 Jahren \n\nTrailer:
URL:https://sommernachts-kino.de/film/triangle-of-sadness-omu
LOCATION:Schwarzes Kloster\, Rotteckring 12\, Freiburg
ATTACH;FMTTYPE=image/jpeg:https://sommernachts-kino.de/wp-content/uploads/2023/06/TRIANGLE-OF-SADNESS-_01.jpg
END:VEVENT
END:VCALENDAR