BEGIN:VCALENDAR
VERSION:2.0
PRODID:-//Sommernachts-Kino im schwarzen Kloster in Freiburg - ECPv6.13.2//NONSGML v1.0//EN
CALSCALE:GREGORIAN
METHOD:PUBLISH
X-ORIGINAL-URL:https://sommernachts-kino.de
X-WR-CALDESC:Veranstaltungen für Sommernachts-Kino im schwarzen Kloster in Freiburg
REFRESH-INTERVAL;VALUE=DURATION:PT1H
X-Robots-Tag:noindex
X-PUBLISHED-TTL:PT1H
BEGIN:VTIMEZONE
TZID:UTC
BEGIN:STANDARD
TZOFFSETFROM:+0000
TZOFFSETTO:+0000
TZNAME:UTC
DTSTART:20230101T000000
END:STANDARD
END:VTIMEZONE
BEGIN:VEVENT
DTSTART;TZID=UTC:20230815T211500
DTEND;TZID=UTC:20230815T233000
DTSTAMP:20260424T122918
CREATED:20230707T124505Z
LAST-MODIFIED:20230714T152909Z
UID:2960-1692134100-1692142200@sommernachts-kino.de
SUMMARY:DER GESCHMACK DER KLEINEN DINGE
DESCRIPTION:Gabriel Carvin\, der berühmteste Chefkoch Frankreichs und Feinschmecker mit Leib und Seele\, hat keinen Appetit mehr aufs Leben. Bei all den kulinarischen Karriere-Kunststücken ist seine eigene Familie stets zu kurz gekommen. Als er nach einem Herzinfarkt selbst unter dem Filetiermesser landet\, nimmt der korpulente Küchenprofi sein Leben endlich in die Hand. Er reist nach Japan\, um einen ehemaligen Koch-Kontrahenten ausfindig zu machen und hinter das Geheimnis des Umami\, einer mysteriösen fünften Geschmacksnote zu kommen… \nDarsteller: Gérard Depardieu\, Kyozo Nagatsuka\, Pierre Richard\, Sandrine Bonnaire\nRegie: Slony Sow / Frankreich\, Japan 2023\, 107 min.\n \nAb 6 Jahren \n\nTrailer:\nhttps://youtu.be/fTY41B3bfLI
URL:https://sommernachts-kino.de/film/der-geschmack-der-kleinen-dinge
LOCATION:Schwarzes Kloster\, Rotteckring 12\, Freiburg
ATTACH;FMTTYPE=image/webp:https://sommernachts-kino.de/wp-content/uploads/2023/07/geschmack2.webp
END:VEVENT
BEGIN:VEVENT
DTSTART;TZID=UTC:20230827T210000
DTEND;TZID=UTC:20230827T233000
DTSTAMP:20260424T122918
CREATED:20230712T140118Z
LAST-MODIFIED:20230714T154533Z
UID:2988-1693170000-1693179000@sommernachts-kino.de
SUMMARY:Premiere: FALLENDE BLÄTTER
DESCRIPTION:  \nZwei einsamen Menschen treffen zufällig im nächtlichen Helsinki aufeinander. Beide sind auf der Suche nach der ersten\, einzigen und endgültigen Liebe ihres Lebens. Der Weg zu diesem ehrenwerten Ziel wird erschwert durch die Alkoholsucht des Mannes\, verlorene Telefonnummern\, die Unkenntnis des Namens und der Adresse des jeweils anderen – und nicht zuletzt durch die allgemeine Tendenz des Lebens\, denjenigen\, die ihr Glück suchen\, Steine in den Weg zu legen… \n„Romantisch und liebenswert\, ein Film mit einem großen Herzen!“ GUARDIAN  \n„Ein wahres Juwel – wunderbar\, witzig und ergreifend!“ DEADLINE\n„Eine Tragikomödie\, die schimmert wie ein Juwel im Staub!“ HOLLYWOOD REPORTER \nDarsteller: Alma Pöysti und Jussi Vatanen \nRegie: Aki Kaurismäki / Finnland 2023\, 81 min.\n \nAb 12 Jahren \n\nTrailer:
URL:https://sommernachts-kino.de/film/premiere-fallende-blaetter
LOCATION:Schwarzes Kloster\, Rotteckring 12\, Freiburg
ATTACH;FMTTYPE=image/jpeg:https://sommernachts-kino.de/wp-content/uploads/2023/07/FallendeBlaetter.jpg
END:VEVENT
END:VCALENDAR