BEGIN:VCALENDAR
VERSION:2.0
PRODID:-//Sommernachts-Kino im schwarzen Kloster in Freiburg - ECPv6.13.2//NONSGML v1.0//EN
CALSCALE:GREGORIAN
METHOD:PUBLISH
X-WR-CALNAME:Sommernachts-Kino im schwarzen Kloster in Freiburg
X-ORIGINAL-URL:https://sommernachts-kino.de
X-WR-CALDESC:Veranstaltungen für Sommernachts-Kino im schwarzen Kloster in Freiburg
REFRESH-INTERVAL;VALUE=DURATION:PT1H
X-Robots-Tag:noindex
X-PUBLISHED-TTL:PT1H
BEGIN:VTIMEZONE
TZID:UTC
BEGIN:STANDARD
TZOFFSETFROM:+0000
TZOFFSETTO:+0000
TZNAME:UTC
DTSTART:20240101T000000
END:STANDARD
END:VTIMEZONE
BEGIN:VEVENT
DTSTART;TZID=UTC:20240628T220000
DTEND;TZID=UTC:20240628T233000
DTSTAMP:20260423T185806
CREATED:20240608T143815Z
LAST-MODIFIED:20240617T091252Z
UID:3122-1719612000-1719617400@sommernachts-kino.de
SUMMARY:Eröffnung: PERFECT DAYS
DESCRIPTION:  \nDie Geschichte eines Mannes\, der in Tokio Toiletten putzt und völlig in sich selbst ruht – so reiht sich in Hirayamas Leben ein perfekter Tag an den nächsten… Eine tief berührende\, poetische Betrachtung über die Schönheit der alltäglichen Welt und die Einzigartigkeit eines jeden Menschen – ansteckend zenartig.      Silberne Palme für Besten Darsteller\, Cannes 2023! \n„Unbeschreiblich schön!“ HOLLYWOOD REPORTER \n„Ein sanftes Wunder!“ DEADLINE \n„Ein Film über den Sinn des Lebens\, nicht weniger!“ SCREEN INT’L \n  \nDarsteller: Kōji Yakusho\, Tokio Emoto \nRegie: Wim Wenders / Japan 2023\, 125 min.\n \nAb 0 Jahren \n\nTrailer:
URL:https://sommernachts-kino.de/film/perfect-days
LOCATION:Schwarzes Kloster\, Rotteckring 12\, Freiburg
ATTACH;FMTTYPE=image/webp:https://sommernachts-kino.de/wp-content/uploads/2024/06/Perfect3.webp
END:VEVENT
BEGIN:VEVENT
DTSTART;TZID=UTC:20240629T220000
DTEND;TZID=UTC:20240629T233000
DTSTAMP:20260423T185806
CREATED:20240608T145820Z
LAST-MODIFIED:20240629T175202Z
UID:3133-1719698400-1719703800@sommernachts-kino.de
SUMMARY:MORGEN IST AUCH NOCH EIN TAG
DESCRIPTION:Die heutige Vorstellung fällt wegen Regen aus! Online-Tickets werden von uns automatisch storniert\, Kassentickets bitte an der Kasse zurückgeben. \n MORGEN IST AUCH NOCH EIN TAG wird voraussichtlich am 8. August nochmals im Sommernachtskino laufen!\n \nRom\, 1946. Delia ist die Frau von Ivano und Mutter dreier Kinder. Zwei Rollen\, in die sie sich voller Hingabe fügt. Obendrein bessert sie die Haushaltskasse mit vielen kleinen Hilfsarbeiten auf\, um die Familie über Wasser zu halten. Ivano hingegen fühlt sich berechtigt\, alle daran zu erinnern\, wer der Ernährer ist. Nicht nur mit Worten. Körperliche und psychische Gewalt gehören für Delia zum Alltag. Bis ein mysteriöser Brief eintrifft\, der ihr den Mut gibt\, alles über den Haufen zu werfen und sich ein besseres Leben zu wünschen\, nicht nur für sich selbst …  \nDer italienische Sensationserfolg mit 5\,3 Mio Zuschauern – und läuft und läuft! \nDarsteller: Paola Cortellesi\, Emanuela Fanelli\, Romana Maggiora \nRegie: Paola Cortellesi / Italien 2023\, 119 min\n \nAb 12 Jahren \n\nTrailer:
URL:https://sommernachts-kino.de/film/morgen-ist-auch-noch-ein-tag
LOCATION:Schwarzes Kloster\, Rotteckring 12\, Freiburg
ATTACH;FMTTYPE=image/webp:https://sommernachts-kino.de/wp-content/uploads/2024/06/morgen.webp
END:VEVENT
BEGIN:VEVENT
DTSTART;TZID=UTC:20240630T220000
DTEND;TZID=UTC:20240630T233000
DTSTAMP:20260423T185806
CREATED:20240608T150156Z
LAST-MODIFIED:20240630T174909Z
UID:3135-1719784800-1719790200@sommernachts-kino.de
SUMMARY:ES SIND DIE KLEINEN DINGE
DESCRIPTION: WIR SPIELEN!\n \nAls Lehrerin und Bürgermeisterin einer 400-Seelen-Gemeinde im Herzen der Bretagne ist Alice voll ausgelastet. Als ausgerechnet der eigenwillige Émile beschließt\, mit 65 Jahren noch lesen und schreiben zu lernen\, und sich in Alices` Klasse setzt\, ist das Fass zum Überlaufen voll. Doch es kommt noch schlimmer: Mit einem Mal steht ihre Schule vor dem Aus. Jetzt ist guter Rat teuer. Aber wenn alle an einem Strang ziehen und pfiffige Einfälle haben\, wird das Unmögliche vielleicht doch möglich…  Berührende Komödie über das\, was das Leben ausmacht. \nDarsteller: Michel Blanc\, Julia Piaton\, Lionel Abelanski\n \nRegie: Mélanie Auffret / Frankreich 2023\, 91 min.\n \nAb 12 Jahren \n\nTrailer:
URL:https://sommernachts-kino.de/film/es-sind-die-kleinen-dinge
LOCATION:Schwarzes Kloster\, Rotteckring 12\, Freiburg
ATTACH;FMTTYPE=image/webp:https://sommernachts-kino.de/wp-content/uploads/2024/06/KleineDinge.webp
END:VEVENT
END:VCALENDAR