BEGIN:VCALENDAR
VERSION:2.0
PRODID:-//Sommernachts-Kino im schwarzen Kloster in Freiburg - ECPv6.13.2//NONSGML v1.0//EN
CALSCALE:GREGORIAN
METHOD:PUBLISH
X-ORIGINAL-URL:https://sommernachts-kino.de
X-WR-CALDESC:Veranstaltungen für Sommernachts-Kino im schwarzen Kloster in Freiburg
REFRESH-INTERVAL;VALUE=DURATION:PT1H
X-Robots-Tag:noindex
X-PUBLISHED-TTL:PT1H
BEGIN:VTIMEZONE
TZID:UTC
BEGIN:STANDARD
TZOFFSETFROM:+0000
TZOFFSETTO:+0000
TZNAME:UTC
DTSTART:20250101T000000
END:STANDARD
END:VTIMEZONE
BEGIN:VEVENT
DTSTART;TZID=UTC:20250626T220000
DTEND;TZID=UTC:20250626T233000
DTSTAMP:20260422T205446
CREATED:20250529T100958Z
LAST-MODIFIED:20250602T120335Z
UID:3891-1750975200-1750980600@sommernachts-kino.de
SUMMARY:Wunderschöner
DESCRIPTION:Noch wunderschöner als zuvor: Die Fortsetzung der gefeierten\, episodisch erzählten Dramödie von und mit Publikumsliebling und Multitalent Karoline Herfurth begleitet viele der liebgewonnenen Figuren aus dem ersten Teil auf ihrem weiteren Weg zu sich selbst. Im Mittel punkt stehen fünf Frauen\, die ihr Leben und ihren Selbstwert nicht länger danach ausrichten wollen\, begehrenswert zu sein. Hauptsache sexy\, egal\, ob dünn\, dick\, jung oder alt\, welche Hautfarbe oder welches Lebensmodell – ein Hoch auf Herfurth und ihr Ensemble\, das sich noch einmal selbst übertrifft! \n„Emotionaler denn je: Herfurth weiß\, wie man einen Hit toppt!“ CINEMA\n \n  \nDarsteller: Karoline Herfurth\, Anneke Kim Sarnau\, Emilia Schüle \nRegie: Karoline Herfurth / Deutschland 2024\, 138 min.\n \nAb 12 Jahren \n\nTrailer:
URL:https://sommernachts-kino.de/film/wunderschoener
LOCATION:Schwarzes Kloster\, Rotteckring 12\, Freiburg
ATTACH;FMTTYPE=image/jpeg:https://sommernachts-kino.de/wp-content/uploads/2025/05/wunderschoener.jpg
END:VEVENT
BEGIN:VEVENT
DTSTART;TZID=UTC:20250627T220000
DTEND;TZID=UTC:20250627T233000
DTSTAMP:20260422T205446
CREATED:20250529T101318Z
LAST-MODIFIED:20250602T120130Z
UID:3704-1751061600-1751067000@sommernachts-kino.de
SUMMARY:Der Pinguin meines Lebens
DESCRIPTION:Tom\, ein mürrischer Lehrer\, durch und durch Engländer\, kommt in den 1970er Jahren nach Buenos Aires\, um an einem Jungeninternat Englisch zu unterrichten. Mitten in den Unruhen des Militärputsches sind auch seine Schüler aufsässig und unbelehrbar. Das macht es für Tom nicht eben leichter. Eines Tages rettet er am ölverschmutzten Strand einem Pinguin das Leben – und wird den drolligen Kerl trotz aller Bemühungen nicht wieder los… \n„Geistreich und unglaublich witzig – Sie werden lauthals lachen!“ NEXT BEST PICTURE\n„Steve Coogan ist hinreißend – ein entzückender Film!“ COLLIDER\n \n  \nDarsteller: Steve Coogan\, Björn Gustafsson\, David Herrero \nRegie: Peter Cattaneo / Großbritannien 2024\, 112 min.\n \nAb 6 Jahren \n\nTrailer:
URL:https://sommernachts-kino.de/film/der-pinguin-meines-lebens
LOCATION:Schwarzes Kloster\, Rotteckring 12\, Freiburg
ATTACH;FMTTYPE=image/webp:https://sommernachts-kino.de/wp-content/uploads/2025/05/der-pingu2.webp
END:VEVENT
BEGIN:VEVENT
DTSTART;TZID=UTC:20250628T220000
DTEND;TZID=UTC:20250628T233000
DTSTAMP:20260422T205446
CREATED:20250529T101403Z
LAST-MODIFIED:20250602T120005Z
UID:3713-1751148000-1751153400@sommernachts-kino.de
SUMMARY:Für immer hier
DESCRIPTION:Rio de Janeiro\, Anfang der 1970er Jahre. In einem Haus am Strand lebt die Familie Paiva: Vater Rubens\, Mutter Eunice und ihre fünf Kinder. In ihrem Zuhause bewahren sie eine Atmosphäre der Liebe\, des Humors und der Offenheit. Ihre Zuneigung zueinander ist ein Akt des Widerstands gegen die allgegenwärtige Unterdrückung durch die Diktatur. Doch dann klopft auch bei ihnen die Geheimpolizei an\, holt Vater und Mutter zum Verhör. Als Rubens verschwunden bleibt\, kämpft Eunice wie eine Löwin\, um ihrer Familie eine neue Zukunft aufzubauen… \n \n» Eine fesselnde\, bewegende Hommage an eine beeindruckende Frau und ihre Familie! « SCREEN INT`L\n» Einer der besten Filme über die Kraft der Familie\, die ich je gesehen habe! « CHICAGO SUN \n  \nOscar für Besten Internationalen Film!  \nPublikumspreise Sao Paulo\, Vancouver & Rotterdam! \n  \nDarsteller: Fernanda Torres\, Fernanda Montenegro\, Selton Mello \nRegie: Walter Salles / Brasilien 2024\, 138 min.\n \nAb 12 Jahren \n\nTrailer:
URL:https://sommernachts-kino.de/film/fuer-immer-hier
LOCATION:Schwarzes Kloster\, Rotteckring 12\, Freiburg
ATTACH;FMTTYPE=image/jpeg:https://sommernachts-kino.de/wp-content/uploads/2025/05/fuer-immer-hier.jpg
END:VEVENT
BEGIN:VEVENT
DTSTART;TZID=UTC:20250629T220000
DTEND;TZID=UTC:20250629T233000
DTSTAMP:20260422T205446
CREATED:20250529T101453Z
LAST-MODIFIED:20250605T143636Z
UID:3718-1751234400-1751239800@sommernachts-kino.de
SUMMARY:The Outrun
DESCRIPTION:Nach mehr als einem Jahrzehnt kehrt Rona in ihre Heimat auf den entlegenen Orkney-Inseln zurück. Während sie die einzigartige Landschaft\, in der sie aufgewachsen ist\, wiederentdeckt\, vermischen sich ihre Kindheitserinnerungen mit der letzten\, von Sucht geprägten Zeit. Ihr damaliger Aufbruch in die Stadt und die folgenden ausschweifenden Jahre in\nLondon endeten in einem schmerzhaften Absturz. Doch nach und nach wird die Begegnung mit der rauen Natur der Inseln zu einer Chance auf ein neues Leben… \n„Eine grandiose Performance von Soairse Ronan!“ COLLIDER\n„Ein Meisterwerk\, das man gesehen haben muss!“ TALKING FILMS\n„Ein Höhepunkt der Berlinale!“ MORGENPOST \n  \nDarsteller: Saoirse Ronan\, Paapa Essiedu\, Stephen Dillane \nRegie: Emmanuel Courcol / Frankreich 2024\, 104 min.\n \nAb 12 Jahren \n\nTrailer:
URL:https://sommernachts-kino.de/film/the-outrun
LOCATION:Schwarzes Kloster\, Rotteckring 12\, Freiburg
ATTACH;FMTTYPE=image/jpeg:https://sommernachts-kino.de/wp-content/uploads/2025/05/the-outrun.jpg
END:VEVENT
BEGIN:VEVENT
DTSTART;TZID=UTC:20250630T220000
DTEND;TZID=UTC:20250630T233000
DTSTAMP:20260422T205446
CREATED:20250529T101532Z
LAST-MODIFIED:20250602T120108Z
UID:3726-1751320800-1751326200@sommernachts-kino.de
SUMMARY:Die leisen und die großen Töne
DESCRIPTION:Thibaut ist ein berühmter Dirigent. In der Mitte seines Lebens erfährt er\, dass er adoptiert wurde einen jüngeren Bruder hat\, Jimmy\, der in einer Schulküche arbeitet und Posaune in der Blaskapelle spielt. Die beiden Brüder könnten unterschiedlicher nicht sein. Nur in einer Sache sind sie sich einig: ihrer Liebe zur Musik. Thibaut ist beeindruckt vom Talent seines Bruders. Er will die Ungerechtigkeit ihres Schicksals begleichen\, seinem Bruder die eine Chance geben\, die er nie hatte: sein Talent zu entfalten und einen Wettbewerb zu gewinnen. Jimmy beginnt\, von einem ganz anderen Leben zu träumen… \n„Ein Meisterwerk der Menschlichkeit!“ FESTIVAL DES DEUTSCHEN FILMS\n \n  \nDarsteller: Benjamin Lavernhe\, Pierre Lottin\, Sarah Suco \nRegie: Emmanuel Courcol / Frankreich 2024\, 104 min.\n \nAb 0 Jahren \n\nTrailer:
URL:https://sommernachts-kino.de/film/die-leisen-und-die-grossen-toene
LOCATION:Schwarzes Kloster\, Rotteckring 12\, Freiburg
ATTACH;FMTTYPE=image/webp:https://sommernachts-kino.de/wp-content/uploads/2025/05/die-leisen-und.webp
END:VEVENT
END:VCALENDAR