BEGIN:VCALENDAR
VERSION:2.0
PRODID:-//Sommernachts-Kino im schwarzen Kloster in Freiburg - ECPv6.13.2//NONSGML v1.0//EN
CALSCALE:GREGORIAN
METHOD:PUBLISH
X-WR-CALNAME:Sommernachts-Kino im schwarzen Kloster in Freiburg
X-ORIGINAL-URL:https://sommernachts-kino.de
X-WR-CALDESC:Veranstaltungen für Sommernachts-Kino im schwarzen Kloster in Freiburg
REFRESH-INTERVAL;VALUE=DURATION:PT1H
X-Robots-Tag:noindex
X-PUBLISHED-TTL:PT1H
BEGIN:VTIMEZONE
TZID:UTC
BEGIN:STANDARD
TZOFFSETFROM:+0000
TZOFFSETTO:+0000
TZNAME:UTC
DTSTART:20250101T000000
END:STANDARD
END:VTIMEZONE
BEGIN:VEVENT
DTSTART;TZID=UTC:20250901T204500
DTEND;TZID=UTC:20250901T223000
DTSTAMP:20260424T095328
CREATED:20250720T100725Z
LAST-MODIFIED:20250720T100725Z
UID:4271-1756759500-1756765800@sommernachts-kino.de
SUMMARY:The Zone Of Interest
DESCRIPTION:Idyllisch mutet das Leben an\, das Hedwig und Rudolf Höß führen\, irgendwo in der polnischen Provinz\, wo sie mit den Kindern an malerischen Seen baden\, Geburtstag feiern\, wo sie den Haushalt führt und er tagtäglich zur Arbeit geht. Er hat es nicht weit\, denn direkt hinter dem schmucken Familienhaus mit stattlichem Garten erheben sich die Mauern von Auschwitz. Höß ist der Leiter des KZs. Seit Generationen wird diskutiert\, wie der Holocaust dargestellt werden kann. Jonathan Glazer hat eine Form gefunden\, die nichts vom Grauen zeigt und doch alles spüren lässt… \n Großer Preis der Jury\, Cannes & 2 Oscars: Bester internationaler Film\, Bestes Tondesign!\n \n„Ein künstlerischer Triumph – einzigartig!“ SPIEGEL\n„Kälter kann ein Film gar nicht sein – ein Holocaust-Film wie kein zweiter\, der wichtigste Film in Cannes!“ NZZ\n„Der vielleicht beste Holocaust-Film\, der je gedreht wurde!“ WELT \nDarsteller: Christian Friedel\, Sandra Hüller\, Johann Karthaus\n \nRegie: Jonathan Glazer / USA\, UK 2023\, 105 min\n \nAb 12 Jahren \n\nTrailer:
URL:https://sommernachts-kino.de/film/the-zone-of-interest-3
LOCATION:Schwarzes Kloster\, Rotteckring 12\, Freiburg
ATTACH;FMTTYPE=image/jpeg:https://sommernachts-kino.de/wp-content/uploads/2024/06/zone1.jpg
END:VEVENT
BEGIN:VEVENT
DTSTART;TZID=UTC:20250902T204500
DTEND;TZID=UTC:20250902T231500
DTSTAMP:20260424T095328
CREATED:20250720T100544Z
LAST-MODIFIED:20250720T100544Z
UID:4235-1756845900-1756854900@sommernachts-kino.de
SUMMARY:Like A Complete Unknown
DESCRIPTION:Der kometenhafte Aufstieg des jungen Bob Dylan vom Folksänger in kleinen Clubs über Konzertsäle bis an die Spitze der Charts: Seine Songs und seine mystische Persönlichkeit werden zu einer weltweiten Sensation – und gipfeln in einem bahnbrechenden Auftritt auf dem Newport Folk Festival 1965\, wo er erstmalig zur Elektrogitarre greift… \n„Timothée Chalamet ist eine Offenbarung als Bob Dylan!“ VARIETY\n» Ein unverschämt unterhaltsames Stück Pop-Kino!« DETROIT NEWS \n  \nDarsteller: Timothée Chalamet\, Edward Norton\, Elle Fanning \nRegie: James Mangold / USA 2024\, 140 min.\n \nAb 6 Jahren \n\nTrailer:
URL:https://sommernachts-kino.de/film/like-a-complete-unknown-2
LOCATION:Schwarzes Kloster\, Rotteckring 12\, Freiburg
ATTACH;FMTTYPE=image/jpeg:https://sommernachts-kino.de/wp-content/uploads/2025/05/like-a-complete-unknown.jpg
END:VEVENT
BEGIN:VEVENT
DTSTART;TZID=UTC:20250903T204500
DTEND;TZID=UTC:20250903T231500
DTSTAMP:20260424T095328
CREATED:20250720T101314Z
LAST-MODIFIED:20250720T101314Z
UID:4287-1756932300-1756941300@sommernachts-kino.de
SUMMARY:Wunderschöner
DESCRIPTION:Noch wunderschöner als zuvor: Die Fortsetzung der gefeierten\, episodisch erzählten Dramödie von und mit Publikumsliebling und Multitalent Karoline Herfurth begleitet viele der liebgewonnenen Figuren aus dem ersten Teil auf ihrem weiteren Weg zu sich selbst. Im Mittel punkt stehen fünf Frauen\, die ihr Leben und ihren Selbstwert nicht länger danach ausrichten wollen\, begehrenswert zu sein. Hauptsache sexy\, egal\, ob dünn\, dick\, jung oder alt\, welche Hautfarbe oder welches Lebensmodell – ein Hoch auf Herfurth und ihr Ensemble\, das sich noch einmal selbst übertrifft! \n„Emotionaler denn je: Herfurth weiß\, wie man einen Hit toppt!“ CINEMA\n \n  \nDarsteller: Karoline Herfurth\, Anneke Kim Sarnau\, Emilia Schüle \nRegie: Karoline Herfurth / Deutschland 2024\, 138 min.\n \nAb 12 Jahren \n\nTrailer:
URL:https://sommernachts-kino.de/film/wunderschoener-3
LOCATION:Schwarzes Kloster\, Rotteckring 12\, Freiburg
ATTACH;FMTTYPE=image/jpeg:https://sommernachts-kino.de/wp-content/uploads/2025/05/wunderschoener.jpg
END:VEVENT
BEGIN:VEVENT
DTSTART;TZID=UTC:20250904T204500
DTEND;TZID=UTC:20250904T233000
DTSTAMP:20260424T095328
CREATED:20250720T100821Z
LAST-MODIFIED:20250720T100821Z
UID:4280-1757018700-1757028600@sommernachts-kino.de
SUMMARY:Premiere: 22 Bahnen
DESCRIPTION:Tildas Tage sind streng durchgetaktet: studieren\, an der Supermarktkasse sitzen\, schwimmen\, sich um ihre kleine Schwester Ida kümmern – und an schlechten Tagen auch um ihre Mutter. Ihre Freunde sind längst weg\, leben in Amsterdam oder Berlin\, nur Tilda ist geblieben. Denn irgendjemand muss für Ida da sein\, Geld verdienen\, die Verantwortung tragen. Doch eines Tages geraten die Dinge in Bewegung: Tilda erhält ein vielversprechendes Jobangebot in Berlin\, das eine Zukunft voller Freiheit verspricht. Und dann taucht auch noch Viktor auf\, der – genau wie sie – immer 22 Bahnen schwimmt… \n  \nDarsteller: Luna Wedler\, Zoë Baier\, Jannis Niewöhner \nRegie: Mia Maariel Maier | Deutschland 2025\, Dauer noch unbekannt\n \nFSK noch unbekannt \n\nTrailer:
URL:https://sommernachts-kino.de/film/premiere-22-bahnen
LOCATION:Schwarzes Kloster\, Rotteckring 12\, Freiburg
ATTACH;FMTTYPE=image/webp:https://sommernachts-kino.de/wp-content/uploads/2025/07/22-bahnen.webp
END:VEVENT
BEGIN:VEVENT
DTSTART;TZID=UTC:20250905T204500
DTEND;TZID=UTC:20250905T233000
DTSTAMP:20260424T095328
CREATED:20250720T101031Z
LAST-MODIFIED:20250720T102157Z
UID:4283-1757105100-1757115000@sommernachts-kino.de
SUMMARY:Das Kanu des Manitu
DESCRIPTION:Abahachi\, der Häuptling der Apachen\, und sein weißer Blutsbruder Ranger kämpfen unermüdlich für Frieden und Gerechtigkeit – doch eine neue\, aufstrebende Bande macht ihnen das Leben besonders schwer! Sie locken Abahachi und Ranger in eine Falle\, um an das sagenumwobene „Kanu des Manitu“ zu gelangen. Erst in letzter Sekunde können sie von ihrem treuen Weggefährten\, dem liebenswerten Griechen Dimitri\, und Mary gerettet werden. Doch das war erst der Anfang… \n  \nDarsteller: Michael Bully Herbig\, Christian Tramitz\, Rick Kavanian \nRegie: Michael Bully Herbig | Deutschland 2025\, 100 min.\n \nFSK noch unbekannt \n\nTrailer:
URL:https://sommernachts-kino.de/film/das-kanu-des-manitu
LOCATION:Schwarzes Kloster\, Rotteckring 12\, Freiburg
ATTACH;FMTTYPE=image/jpeg:https://sommernachts-kino.de/wp-content/uploads/2025/07/daskanu-des-manitu-e1753006910837.jpg
END:VEVENT
BEGIN:VEVENT
DTSTART;TZID=UTC:20250906T204500
DTEND;TZID=UTC:20250906T224500
DTSTAMP:20260424T095328
CREATED:20250720T101219Z
LAST-MODIFIED:20250720T101219Z
UID:4277-1757191500-1757198700@sommernachts-kino.de
SUMMARY:The Big Lebowski
DESCRIPTION:Jeffrey Lebowski aka „Der Dude“ ist ein ewiger Hippie\, dessen einzige Beschäftigung das Bowlingspielen ist – ein Hobby\, dem er zusammen mit seinen Kumpels Walter und Donny nachgeht. Als er eines Tages durch eine Verwechslung mit einem Multimillionär gleichen Namens Bekanntschaft mit ein paar unflätigen Kriminellen macht\, wird der „Dude“ sauer. Schließlich wurde unter anderem auf seinen Lieblingsteppich uriniert. Also fordert er von dem Multimillionär für das ihm getane Unrecht eine Ersatzleistung\, doch hier beißt er auf Granit… \n  \nDarsteller: Jeff Bridges\, Julianne Moore\, John Goodman \nRegie: Joel Coen\, Ethan Coen 119 min.\n \nAb 12 Jahren \n\nTrailer:
URL:https://sommernachts-kino.de/film/the-big-lebowski
LOCATION:Schwarzes Kloster\, Rotteckring 12\, Freiburg
ATTACH;FMTTYPE=image/jpeg:https://sommernachts-kino.de/wp-content/uploads/2025/07/the-big-lebowski.jpg
END:VEVENT
END:VCALENDAR